BEGIN:VCALENDAR
VERSION:2.0
METHOD:PUBLISH
PRODID:-//Virginia Tech//VT Calendar//EN
BEGIN:VEVENT
DTSTAMP:20140930T160000Z
UID:1412092193323-0002@events.msu.edu
CATEGORIES:Exhibits (Museum, Gardens, ...)
DTSTART:20140930T160000Z
DTEND:20140930T190000Z
SUMMARY:Sally Rose: "More Than Memory Sticks" in RCAH's LookOut! Art Gallery
DESCRIPTION:
 From September 29 through October 24, 2014, visit 
 the RCAH LookOut! Art Gallery for "More Than 
 Memory Sticks," a fiber and handmade paper 
 sculpture exhibition from Sally Rose, Michigan 
 artist and professor of Fiber Arts at Central 
 Michigan University.\n
 \n
 Beyond the daily 
 LookOut! Art Gallery hours of M-F, 1 to 3 p.m., 
 visit the exhibition during the following 
 events:\n
 \n
 - On Tuesday, September 30, 2014, 
 from 4:30 to 6 p.m., join the RCAH for an opening 
 reception\n
 \n
 - On Sunday, October 5, 2014, 
 from 1 to 3 p.m. for Lansing's First Sunday 
 Gallery Walk\n\n
 Price: free\n
 Sponsor: Residential College in the Arts and Humanities\n
 Sponsor's Homepage: http://rcah.msu.edu\n
 Contact name: Katie Wittenauer\n
 Contact phone: (517) 884-6290\n
 Contact email: wittenau@msu.edu\n
 for more info visit the web at:\n 
 http://rcah.msu.edu/news-events/events/sally-rose-more-memory-sticks-lookout-art-gallery\n
LOCATION:Second Floor, Snyder-Phillips Hall
END:VEVENT
END:VCALENDAR
