BEGIN:VCALENDAR
VERSION:2.0
METHOD:PUBLISH
PRODID:-//Virginia Tech//VT Calendar//EN
BEGIN:VEVENT
DTSTAMP:20141111T170000Z
UID:1415030544862-0007@events.msu.edu
CATEGORIES:Exhibits (Museum, Gardens, ...)
DTSTART:20141111T170000Z
DTEND:20141111T200000Z
SUMMARY:"Tapestry as Testimony: Arpilleras of Chile" & "Broken" in LookOut! Art Gallery
DESCRIPTION:
 From November 3 through November 21, 2014, visit 
 the RCAH LookOut! Art Gallery for "Tapestry 
 as Testimony: Arpilleras of Chile," an exhibition 
 of Chilean arpilleras from the collection 
 of Eliana Loveluck, and for "Broken," an 
 installation addressing human trafficking by 
 Sally Thielen and Susan Clinthorne.\n
 \n
 Beyond 
 LookOut! Art Gallery's hours of M-F, 12 to 3 
 p.m., you can visit the exhibition during the 
 following events, which are free and open to 
 the public.\n
 \n
 Reception:\n
 \n
 On Tuesday, November 
 4, 2014, from 4 to 5:30 p.m., join the 
 RCAH for an opening reception in LookOut! Art 
 Gallery. Learn more about arpilleras from Eliana 
 Loveluck, who helped build the collection 
 of arpilleras, and meet artists Sally Thielen 
 and Susan Clinthorne. Light refreshments 
 will be served.\n
 \n
 Panel Discussion:\n
 \n
 On Thursday, 
 November 13, 2014, from 3 to 4:30 p.m. 
 in C202 Snyder Hall, join MSU Peace and Justice 
 Studies and the RCAH for a panel discussion 
 about arpilleras in the context of General 
 Augusto Pinochet's brutal dictatorship. Light 
 refreshments will be available in LookOut! 
 Art Gallery after the panel discussion.\n
 \n
 Reception:\n
 \n
 On 
 Friday, November 14, 2014, from 
 3 to 4:30 p.m. in LookOut! Art Gallery, meet 
 artists Sally Thielen and Susan Clinthorne 
 in conjunction with the MSU Center for Gender 
 in Global Context human trafficking film screening 
 and conference.\n
 \n
  \n
 \n
 With gratitude 
 for support from the MSU Office for Inclusion 
 and Intercultural Initiatives, Our Daily Work/Our 
 Daily Lives, the MSU Department of History, 
 and MSU Peace and Justice Studies.\n\n
 Price: free\n
 Sponsor: Residential College in the Arts and Humanities\n
 Sponsor's Homepage: http://rcah.msu.edu\n
 Contact name: Katie Wittenauer\n
 Contact phone: (517) 884-6290\n
 Contact email: wittenau@msu.edu\n
 for more info visit the web at:\n 
 http://rcah.msu.edu/news-events/events/tapestry-testimony-arpilleras-chile-broken-lookout-art-galler\n
LOCATION:Second Floor, Snyder-Phillips Hall
END:VEVENT
END:VCALENDAR
