BEGIN:VCALENDAR
VERSION:2.0
METHOD:PUBLISH
PRODID:-//Virginia Tech//VT Calendar//EN
BEGIN:VEVENT
DTSTAMP:20141206T142000Z
UID:1416320284714-0002@events.msu.edu
CATEGORIES:Special Events
DTSTART:20141206T142000Z
DTEND:20141207T045900Z
SUMMARY:Campus Center Cinemas - The Maze Runner
DESCRIPTION:
 <iframe width="640" height="360" src="//www.youtube.com/embed/Xv8ffeBcRC8" 
 frameborder="0" 
 allowfullscreen></iframe>\n\n
 Price: FREE for undergraduate students living in MSU 
 residence halls, $2 for all others\n
 Sponsor: University Activities Board (UAB) and the Residence 
 Halls Assoc.\n
 Sponsor's Homepage: http://www.uabevents.com\n
 Contact name: University Activities Board\n
 Contact phone: 355-3354\n
 Contact email: uab@rhs.msu.edu\n
 for more info visit the web at:\n 
 http://uabevents.com\n
LOCATION:115B Wing, Wells Hall
END:VEVENT
END:VCALENDAR
