BEGIN:VCALENDAR
VERSION:2.0
METHOD:PUBLISH
PRODID:-//Virginia Tech//VT Calendar//EN
BEGIN:VEVENT
DTSTAMP:20150505T040000Z
UID:1417450124538-0002@events.msu.edu
CATEGORIES:Academic
DTSTART;VALUE=DATE:20150505
DTEND;VALUE=DATE:20150506
SUMMARY:Final Exams
DESCRIPTION:
  Price: free\n
 Sponsor: Administration\n
 Sponsor's Homepage: http://www.reg.msu.edu/roinfo/calendar/academic.aspx\n
 for more info visit the web at:\n 
 http://www.reg.msu.edu/roinfo/calendar/academic.aspx\n
END:VEVENT
END:VCALENDAR
