BEGIN:VCALENDAR
VERSION:2.0
METHOD:PUBLISH
PRODID:-//Virginia Tech//VT Calendar//EN
BEGIN:VEVENT
DTSTAMP:20150409T171000Z
UID:1417528824267@events.msu.edu
CATEGORIES:Exhibits (Museum, Gardens, ...)
DTSTART:20150409T171000Z
DTEND:20150409T175000Z
SUMMARY:Beal Garden Tours: Spring Ephemerals and their Stories: CANCELLED
DESCRIPTION:
 **This event has been cancelled due to illness. 
  We apologize for the inconvenience.**  Join 
 assistant curator Peter Carrington for a tour 
 of the earliest flowering plants of the spring. 
 Most are beautiful, some are toxic, but 
 they are all a welcome sight after the rigors 
 of winter. This tour meets at the shed by the 
 pond at the Beal Botanical Garden.\n\n
 Price: free\n
 Sponsor: Administration\n
 Sponsor's Homepage: http://www.lib.msu.edu\n
 Contact name: Holly Flynn\n
 Contact phone: 517-884-0901\n
 Contact email: flynnhol@msu.edu\n
LOCATION:Beal Botanical Gardens
END:VEVENT
END:VCALENDAR
