BEGIN:VCALENDAR
VERSION:2.0
METHOD:PUBLISH
PRODID:-//Virginia Tech//VT Calendar//EN
BEGIN:VEVENT
DTSTAMP:20150409T050000Z
UID:1418239812481@events.msu.edu
CATEGORIES:Conferences / Seminars / Lectures
DTSTART;VALUE=DATE:20150409
DTEND;VALUE=DATE:20150410
SUMMARY:Integrated Network for Social Sustainability (INSS) Annual Meeting
DESCRIPTION:
  Price: free\n
 Sponsor: public\n
 Contact name: Ian Werkheiser\n
 Contact email: werkhei1@msu.edu\n
 for more info visit the web at:\n 
 https://clas-pages.uncc.edu/inss/\n
LOCATION:James B. Henry Center for Executive Development
END:VEVENT
END:VCALENDAR
