BEGIN:VCALENDAR
VERSION:2.0
METHOD:PUBLISH
PRODID:-//Virginia Tech//VT Calendar//EN
BEGIN:VEVENT
DTSTAMP:20150120T171000Z
UID:1418400746462@events.msu.edu
CATEGORIES:Special Events
DTSTART:20150120T171000Z
DTEND:20150120T175000Z
SUMMARY:Water 101:  What does the Ingham County Drain Commissioner do?
DESCRIPTION:
 Please join long-time Ingham County Drain Commissioner 
 Patrick Lindemann for an introduction 
 to Ingham County water and two intriguing local 
 success stories to clean and conserve water 
 -- the Lansing Tollgate Wetlands and the 
 East Lansing Towar Rain Gardens. These urban 
 retrofit projects were developed and implemented 
 based on low-impact designs to protect the 
 environment while saving taxpayers money compared 
 to traditional storm sewers.\n\n
 Price: free\n
 Sponsor: Administration\n
 Sponsor's Homepage: http://www.lib.msu.edu\n
 Contact name: Kriss Ostrom\n
 Contact email: kriss@mail.lib.msu.edu\n
LOCATION:MSU Main Library, 1 East, Reference Instruction Room (W101D)
END:VEVENT
END:VCALENDAR
