BEGIN:VCALENDAR
VERSION:2.0
METHOD:PUBLISH
PRODID:-//Virginia Tech//VT Calendar//EN
BEGIN:VEVENT
DTSTAMP:20150401T173000Z
UID:1418927859405@events.msu.edu
CATEGORIES:Special Events
DTSTART:20150401T173000Z
DTEND:20150401T183000Z
SUMMARY:The Center for Poetry's Edible Book Contest
DESCRIPTION:
 To kick off National Poetry Month, the Center 
 for Poetry will hold its ever-popular Edible 
 Book Contest! All you have to do is make an edible 
 representation, sweet or savory, of a book 
 or literary concept. The contest is open 
 to the public and will be judged by Center for 
 Poetry staff. The contest is open for submissions 
 at 12:30 and will be judged at 1:00. No 
 registration is necessary. \n
 \n
 Facebook event: 
 https://www.facebook.com/events/458530957629675/\n\n
 Price: free\n
 Sponsor: RCAH Center for Poetry at MSU\n
 Sponsor's Homepage: http://poetry.rcah.msu.edu/\n
 Contact name: Linnea Jimison\n
 Contact phone: 517-884-1932\n
 Contact email: cpoetry@msu.edu\n
 for more info visit the web at:\n 
 http://poetry.rcah.msu.edu/calendar.html\n
LOCATION:Snyder Hall second floor, LookOut! Gallery
END:VEVENT
END:VCALENDAR
