BEGIN:VCALENDAR
VERSION:2.0
METHOD:PUBLISH
PRODID:-//Virginia Tech//VT Calendar//EN
BEGIN:VEVENT
DTSTAMP:20150409T133000Z
UID:1419261660731@events.msu.edu
CATEGORIES:Special Events
DTSTART:20150409T133000Z
DTEND:20150409T150000Z
SUMMARY:Construction Junction 
DESCRIPTION:
 Construction Junctions allow Infrastructure Planning 
 and Facilities to provide regular opportunities 
 for dialogue and engagement, in support 
 of MSU President Lou Anna K. Simon's Boldness 
 by Design strategic positioning initiative 
 &quot;Enrich Community.&quot; Think of them 
 as monthly town hall meetings. They are designed 
 to inform MSU staff, faculty and students 
 about projects in design and under construction 
 and to gather feedback from the community.\n\n
 Price: free\n
 Sponsor: public\n
 Contact name: IPF Communications Department \n
 Contact email: Communications@ipf.msu.edu\n
 for more info visit the web at:\n 
 http://ipf.msu.edu/construction/construction-junction/index.html\n
LOCATION:See &quot;More information&quot; link for location details
END:VEVENT
END:VCALENDAR
