BEGIN:VCALENDAR
VERSION:2.0
METHOD:PUBLISH
PRODID:-//Virginia Tech//VT Calendar//EN
BEGIN:VEVENT
DTSTAMP:20150219T000000Z
UID:1419877000327@events.msu.edu
CATEGORIES:Conferences / Seminars / Lectures
DTSTART:20150219T000000Z
DTEND:20150219T013000Z
SUMMARY:"Tracking Time in Auschwitz"
DESCRIPTION:
 Presenter: Alan Rosen, International School for 
 Holocaust Studies, Yad Vashem, and others\n
 \n
 How would our lives be changed if we had no 
 idea what day it was? No idea when we should 
 observe religious holidays or mark the passing 
 of another year? Dr. Alan Rosen examines these 
 intriguing questions in the context of the 
 Holocaust when Jews in ghettos, camps, and 
 in hiding were compelled to develop innovative 
 strategies to track time, maintain continuity 
 with the past, and envision a future. \n
 \n
 Co-sponsored 
 by James Madison College; Center 
 for European, Russian and Eurasian Studies; 
 and Peace and Justice Studies.\n
 \n\n
 Price: Free and open to the public.\n
 Sponsor: Jewish Studies\n
 Sponsor's Homepage: http://events.msu.edu/jewishstudies/\n
 Contact name: Jewish Studies\n
 Contact phone: (517) 432-3493\n
 Contact email: jewishst@msu.edu\n
LOCATION:James Madison College Library, 322 South Case Hall
END:VEVENT
END:VCALENDAR
