BEGIN:VCALENDAR
VERSION:2.0
METHOD:PUBLISH
PRODID:-//Virginia Tech//VT Calendar//EN
BEGIN:VEVENT
DTSTAMP:20150327T220000Z
UID:1419883696174@events.msu.edu
CATEGORIES:Special Events
DTSTART:20150327T220000Z
DTEND:20150328T010000Z
SUMMARY:Ken Waltzer's Big Bash Retirement Celebration: All-University Welcome Reception
DESCRIPTION:
 James Madison College and the Jewish Studies Program 
 are sponsoring a celebration for Professor 
 Kenneth Waltzer on March 27-28, 2015.  After 
 forty-three years teaching at, including 
 seven years leading, James Madison College, 
 and ten years directing MSU's Jewish Studies 
 Program, Ken is retiring. We hope that you can 
 join fellow alumni, faculty, staff, and students, 
 as well as Professor Waltzer's family, 
 friends, and current and former colleagues as 
 we honor his service, teaching, scholarship, 
 and career. This night evenings activities 
 include appetizers, a cash bar, music, and good 
 vibes. To reserve your free tickets to Friday's 
 events, go online at jmc.msu.edu and click 
 on the "Sat Mar 28 / Waltzer Celebration" 
 link in the left margin.\n\n
 Price: Free admission\n
 Sponsor: Jewish Studies\n
 Sponsor's Homepage: http://events.msu.edu/jewishstudies/\n
 Contact name: Jewish Studies\n
 Contact phone: (517) 432-3493\n
 Contact email: jewishst@msu.edu\n
LOCATION:MSU Kellogg Center, Red Cedar Room 
END:VEVENT
END:VCALENDAR
