BEGIN:VCALENDAR
VERSION:2.0
METHOD:PUBLISH
PRODID:-//Virginia Tech//VT Calendar//EN
BEGIN:VEVENT
DTSTAMP:20150225T000000Z
UID:1421095533915-0007@events.msu.edu
CATEGORIES:Special Events
DTSTART:20150225T000000Z
DTEND:20150225T045900Z
SUMMARY:UAB Weekly meeting
DESCRIPTION:
 Come to the weekly UAB Meeting and join in on 
 the fun!  Hear committee reports and find out 
 how you can get involved in the University's 
 best programming group!\n\n
 Price: free\n
 Sponsor: University Activities Board (UAB)\n
 Sponsor's Homepage: http://www.uabevents.com\n
 Contact name: UAB\n
 Contact phone: 5-3354\n
 Contact email: uab@rhs.msu.edu\n
 for more info visit the web at:\n 
 http://www.uabevents.com\n
LOCATION:MSU Union, Rm 50 Ground Floor
END:VEVENT
END:VCALENDAR
