BEGIN:VCALENDAR
VERSION:2.0
METHOD:PUBLISH
PRODID:-//Virginia Tech//VT Calendar//EN
BEGIN:VEVENT
DTSTAMP:20150208T001000Z
UID:1421268630643-0002@events.msu.edu
CATEGORIES:Special Events
DTSTART:20150208T001000Z
DTEND:20150208T045900Z
SUMMARY:Campus Center Cinemas - Big Hero 6
DESCRIPTION:
 <iframe width="640" height="360" src="//www.youtube.com/embed/z3biFxZIJOQ" 
 frameborder="0" 
 allowfullscreen></iframe>\n\n
 Price: FREE for undergraduate students living in MSU 
 residence halls, $2 for all others\n
 Sponsor: University Activities Board (UAB) and the Residence 
 Halls Assoc.\n
 Sponsor's Homepage: http://www.uabevents.com\n
 Contact name: University Activities Board\n
 Contact phone: 355-3354\n
 Contact email: uab@rhs.msu.edu\n
 for more info visit the web at:\n 
 http://uabevents.com\n
LOCATION:B Wing, Wells Hall
END:VEVENT
END:VCALENDAR
