BEGIN:VCALENDAR
VERSION:2.0
METHOD:PUBLISH
PRODID:-//Virginia Tech//VT Calendar//EN
BEGIN:VEVENT
DTSTAMP:20150305T000000Z
UID:1422046369787@events.msu.edu
CATEGORIES:Public Programs
DTSTART:20150305T000000Z
DTEND:20150305T045900Z
SUMMARY:Marge Piercy
DESCRIPTION:
 Marge Piercy is the author of seventeen novels 
 including The New York Times Bestseller Gone 
 To Soldiers; the National Bestsellers Braided 
 Lives and The Longings of Women, and the classic 
 Woman on the Edge of Time; eighteen volumes 
 of poetry including The Hunger Moon and 
 The Moon is Always Female, and a critically acclaimed 
 memoir Sleeping with Cats. Born in center 
 city Detroit, educated at the University 
 of Michigan, the recipient of four honorary 
 doctorates, she has been a key player in some 
 of the major progressive battles of our time, 
 including the anti-Vietnam war and the women's 
 movement, and more recently an active participant 
 in the resistance to the wars in Iraq 
 and Afghanistan. (from margepiercy.com)\n
 \n
 Cosponsored 
 by the Center for Gender in Global 
 Context\n\n
 Price: free\n
 Sponsor: Administration\n
 Sponsor's Homepage: http://www.lib.msu.edu\n
 Contact name: Holly Flynn\n
 Contact phone: 517-884-0901\n
 Contact email: flynnhol@msu.edu\n
LOCATION:Main Library North Conference Room, W449
END:VEVENT
END:VCALENDAR
