BEGIN:VCALENDAR
VERSION:2.0
METHOD:PUBLISH
PRODID:-//Virginia Tech//VT Calendar//EN
BEGIN:VEVENT
DTSTAMP:20150224T233000Z
UID:1423168435196@events.msu.edu
CATEGORIES:Training
DTSTART:20150224T233000Z
DTEND:20150225T013000Z
SUMMARY:Going From Concept to Reality with 3D Design and Printing: A Workshop with Joe Carr
DESCRIPTION:
 In this workshop, 3D experts will lead participants 
 through developing a 3D object. The talk 
 will include the basics of 3D Printing hardware, 
 before participants collaborate in designing 
 their product. Finished files can then 
 be printed at the Library Copy Center.\n
 This 
 workshop is free, but space is limited, so please 
 register at http://classes.lib.msu.edu\n\n
 Price: free\n
 Sponsor: Administration\n
 Sponsor's Homepage: http://www.lib.msu.edu\n
 Contact name: Holly Flynn\n
 Contact phone: 517-884-0901\n
 Contact email: flynnhol@msu.edu\n
 for more info visit the web at:\n 
 http://classes.lib.msu.edu\n
LOCATION:MSU Main Library, 3W Instruction Room
END:VEVENT
END:VCALENDAR
