BEGIN:VCALENDAR
VERSION:2.0
METHOD:PUBLISH
PRODID:-//Virginia Tech//VT Calendar//EN
BEGIN:VEVENT
DTSTAMP:20150318T050000Z
UID:1424716395812-0017@events.msu.edu
CATEGORIES:Exhibits (Museum, Gardens, ...)
DTSTART;VALUE=DATE:20150318
DTEND;VALUE=DATE:20150319
SUMMARY:Songs of Miners, Lumberjacks, and Schooner Men: Alan Lomax's Michigan Legacy
DESCRIPTION:
 Michigan's ethnic diversity is reflected in Alan 
 Lomax's field recording from the 1930s. Musical 
 cultures from Detroit to the Upper Peninsula 
 are brought to life through song lyrics, 
 photographs, and sound recording including 
 lumberjacks, miners, schoonermen (Great Lakes 
 sailors), and more. Produced in partnership 
 with the Michigan Humanities Council. \n\n
 Price: free\n
 Sponsor: Administration\n
 Sponsor's Homepage: http://museum.msu.edu\n
 Contact phone: 517-355-2370\n
 Contact email: pr@museum.msu.edu\n
 for more info visit the web at:\n 
 http://museum.msu.edu\n
LOCATION:MSU Museum
END:VEVENT
END:VCALENDAR
