BEGIN:VCALENDAR
VERSION:2.0
METHOD:PUBLISH
PRODID:-//Virginia Tech//VT Calendar//EN
BEGIN:VEVENT
DTSTAMP:20150401T200000Z
UID:1425584520802@events.msu.edu
CATEGORIES:Conferences / Seminars / Lectures
DTSTART:20150401T200000Z
DTEND:20150401T211500Z
SUMMARY:Chemistry Department Max T. Rogers Lectureship
DESCRIPTION:
 Professor Jonathan Sweedler from the University 
 of Illinois at Urbana-Champaign will present 
 research for the Max T. Rogers Lectureship 
 titled "New analytical tools for the cell by 
 cell chemical characterization of the brain."\n\n
 Price: free\n
 Sponsor: Chemistry\n
 Sponsor's Homepage: http://www.chemistry.msu.edu/\n
 Contact name: Sarah Quraishi\n
 Contact phone: (517) 355-9715x345\n
 Contact email: quraish3@msu.edu\n
LOCATION:136 Chemistry Bldg
END:VEVENT
END:VCALENDAR
