BEGIN:VCALENDAR
VERSION:2.0
METHOD:PUBLISH
PRODID:-//Virginia Tech//VT Calendar//EN
BEGIN:VEVENT
DTSTAMP:20150507T140000Z
UID:1429882353012@events.msu.edu
CATEGORIES:Conferences / Seminars / Lectures
DTSTART:20150507T140000Z
DTEND:20150507T183000Z
SUMMARY:Models of Cancer Symposium
DESCRIPTION:
 LATEST CANCER RESEARCH \n
 \n
 MODELS OF CANCER SYMPOSIUM\n
 \n
 Guest 
 Speakers:\n
 \n
 -John Laterra, 
 MD, PhD - Johns Hopkins\n
 -William Muller, PhD 
 - McGill University\n
 -Katerina Politi, PhD - 
 Yale University\n
 -Li Ma, PhD - MD Anderson\n
 \n
 Event is complimentary and lunch is provided. 
 Please RSVP your attendance to vprgs@msu.edu. 
  Researchers, clinicians, administrators, 
 faculty and students are all welcome to attend. 
  \n
 \n
 Sponsored by the Office of the Vice 
 President for Research and Graduate Studies and 
 the MSU Departments of Pharmacology & Toxicology, 
 Microbiology & Molecular Genetics and 
 Physiology.\n\n
 Price: free\n
 Sponsor: Office of the Vice President for Research and 
 Graduate Studies\n
 Sponsor's Homepage: https://vprgs.msu.edu/\n
 Contact name: OVPRGS\n
 Contact email: vprgs@msu.edu\n
 for more info visit the web at:\n 
 https://vprgs.msu.edu/\n
LOCATION:1200 Molecular Plant Sciences Building
END:VEVENT
END:VCALENDAR
