BEGIN:VCALENDAR
VERSION:2.0
METHOD:PUBLISH
PRODID:-//Virginia Tech//VT Calendar//EN
BEGIN:VEVENT
DTSTAMP:20150711T123000Z
UID:1434989994625@events.msu.edu
CATEGORIES:Training
DTSTART:20150711T123000Z
DTEND:20150711T210000Z
SUMMARY:Community Integrated Medicine Mental Health First Aid Training
DESCRIPTION:
 MSUCOM and CIM are hosting and Adult Mental Health 
 First Aid Training. MHFA is important because 
 mental health problems are common.  People 
 with mental health problems often do not 
 seek help. MHFA training improves your ability 
 to become an advocate for individuals living 
 with mental health complaints. During the 8-hour 
 MHFA training, students will learn about: 
 1. Prevalance of mental illness and its costs. 
 2. The potential warning signs and risk 
 factors for depression, anxiety disorders, trauma, 
 psychotic disorders, eating disorders, 
 and substance use disorders. 3. 5-Step Action 
 Plan (ALGEE) to help an individual in crisis. 
 4. &#8232;Resources available to help someone 
 with a mental health problems.\n\n
 Price:  Free to Students\n
 Sponsor: Community Mental Health of Clinton, Eaton, and 
 Ingham Counties\n
 Sponsor's Homepage: http://www.mentalhealthfirstaid.org\n
 Contact name: Ashley Weitekamp\n
 Contact phone: 616-340-5527\n
 Contact email: anweitekamp@gmail.com\n
LOCATION:E202 East Fee Hall
END:VEVENT
END:VCALENDAR
