BEGIN:VCALENDAR
VERSION:2.0
METHOD:PUBLISH
PRODID:-//Virginia Tech//VT Calendar//EN
BEGIN:VEVENT
DTSTAMP:20150717T130000Z
UID:1435602614548-0005@events.msu.edu
CATEGORIES:Public Programs
DTSTART:20150717T130000Z
DTEND:20150717T185000Z
SUMMARY:MSU Community Music School Middle School Band Camp
DESCRIPTION:
 This day camp is for middle school students who 
 have completed at least one year of instrumental 
 study. Students will perform with other 
 talented students, receive class instruction 
 in instrumental technique, and explore music 
 through musicianship classes.\n\n
 Price: $215/student; financial aid is available\n
 Sponsor: MSU Community Music School\n
 Sponsor's Homepage: http://cms.msu.edu\n
 Contact phone: 517-355-7661\n
 Contact email: commusic@msu.edu\n
 for more info visit the web at:\n 
 http://www.cms.msu.edu/el/children/camps_band.php\n
LOCATION:MSU Music Building
END:VEVENT
END:VCALENDAR
