BEGIN:VCALENDAR
VERSION:2.0
METHOD:PUBLISH
PRODID:-//Virginia Tech//VT Calendar//EN
BEGIN:VEVENT
DTSTAMP:20150714T130000Z
UID:1435603278839-0002@events.msu.edu
CATEGORIES:Public Programs
DTSTART:20150714T130000Z
DTEND:20150714T190000Z
SUMMARY:MSU Community Music School Musical Theatre Camp
DESCRIPTION:
 This day camp is for elementary, middle and high 
 school students. Campers in grades 9-12 will 
 spend the full two weeks developing skills 
 including solo and ensemble voice development, 
 choreography, and prop design, while focusing 
 on healthy singing using musical theatre 
 repertoire. Campers in grades 2-8 will join them 
 in the second week.\n\n
 Price: $300/student for grades 9-12; $200/student for 
 grades 2-8; financial aid available\n
 Sponsor: MSU Community Music School\n
 Sponsor's Homepage: http://cms.msu.edu\n
 Contact phone: 517-355-7661\n
 Contact email: commusic@msu.edu\n
 for more info visit the web at:\n 
 http://www.cms.msu.edu/el/children/camps_musicTheatre.php\n
LOCATION:MSU Community Music School
END:VEVENT
END:VCALENDAR
