BEGIN:VCALENDAR
VERSION:2.0
METHOD:PUBLISH
PRODID:-//Virginia Tech//VT Calendar//EN
BEGIN:VEVENT
DTSTAMP:20150803T213000Z
UID:1435604932941-0002@events.msu.edu
CATEGORIES:Public Programs
DTSTART:20150803T213000Z
DTEND:20150803T221500Z
SUMMARY:MSU Community Music School Early Childhood Music Education (Preschool)
DESCRIPTION:
 Designed to build a musical foundation, the curriculum 
 for these classes will engage your child 
 in singing and chanting, moving to music, 
 playing percussion instruments, and more!\n
  \n
 Early Childhood Music Education classes are 
 offered to children from birth through 5 years 
 old, and are structured into two different 
 groups: infant and toddlers (ages 0-3 years 
 old), and preschoolers (ages 3-5 years old). 
 The Making Music class is offered to students 
 ages 5-7 and is designed to help children gain 
 the skills that will prepare them for instrumental 
 study.\n\n
 Price: $84/student for 5-week course; financial aid available\n
 Sponsor: MSU Community Music School\n
 Sponsor's Homepage: http://cms.msu.edu\n
 Contact phone: 517-355-7661\n
 Contact email: commusic@msu.edu\n
 for more info visit the web at:\n 
 http://www.cms.msu.edu/el/children/early.php?el_child_early\n
LOCATION:MSU Community Music School
END:VEVENT
END:VCALENDAR
