BEGIN:VCALENDAR
VERSION:2.0
METHOD:PUBLISH
PRODID:-//Virginia Tech//VT Calendar//EN
BEGIN:VEVENT
DTSTAMP:20151103T223000Z
UID:1439411597334-0008@events.msu.edu
CATEGORIES:Public Programs
DTSTART:20151103T223000Z
DTEND:20151103T233000Z
SUMMARY:Group Piano -Children
DESCRIPTION:
 This innovative approach to beginning piano study 
 takes place in the CMS digital keyboard lab 
 and acts as a springboard to private lessons. 
 The group class provides children, ages 7-15 
 years old, with the opportunity to learn 
 piano concepts in a social environment through 
 ear training, singing, rhythm work, games, 
 ensembles, performance, technique, theory, and 
 improvisation.\n
 \n
 Dates and times vary based 
 on age group. \n\n
 Price: $140 & $150 per semester (12 weeks) \n
 Sponsor's Homepage: http://cms.msu.edu\n
 Contact phone: (517) -355 -7661\n
 Contact email: commusic@msu.edu\n
 for more info visit the web at:\n 
 http://cms.msu.edu/el/children/groupPiano.php?el_child_group\n
LOCATION:MSU Community Music School
END:VEVENT
END:VCALENDAR
