BEGIN:VCALENDAR
VERSION:2.0
METHOD:PUBLISH
PRODID:-//Virginia Tech//VT Calendar//EN
BEGIN:VEVENT
DTSTAMP:20151028T160000Z
UID:1439478085891@events.msu.edu
CATEGORIES:Conferences / Seminars / Lectures
DTSTART:20151028T160000Z
DTEND:20151028T170000Z
SUMMARY:Oncologists' decisions about administering late chemotherapy: What makes it so difficult?
DESCRIPTION:
 Join us for a lecture from Minnie Bluhm, PhD, 
 MPH, on Wednesday, October 28, 2015 from 12 - 
 1 pm in person or online. The lecture will take 
 place in East Fee Hall in E4 (basement level), 
 and can be accessed live at msubioethics.clickwebinar.com/brownbag.\n
 \n
 Minnie 
 Bluhm, 
 PhD, MPH, is an Assistant Professor in the College 
 of Health and Human Services at Eastern 
 Michigan University.\n
 \n\n
 Price: free\n
 Sponsor: Center for Ethics and Humanities in the Life Sciences\n
 Sponsor's Homepage: http://www.bioethics.msu.edu/\n
 Contact name: Liz McDaniel\n
 Contact email: elizabeth.mcdaniel@ht.msu.edu\n
 for more info visit the web at:\n 
 http://bioethics.msu.edu/brownbag-webinar/2015-2016-series\n
LOCATION:E4 Fee Hall
END:VEVENT
END:VCALENDAR
