BEGIN:VCALENDAR
VERSION:2.0
METHOD:PUBLISH
PRODID:-//Virginia Tech//VT Calendar//EN
BEGIN:VEVENT
DTSTAMP:20151020T170000Z
UID:1439486947810-0004@events.msu.edu
CATEGORIES:Public Programs
DTSTART:20151020T170000Z
DTEND:20151020T180000Z
SUMMARY:Beginning Ukulele
DESCRIPTION:
 Playing the ukulele is easy and fun! Even if you 
 have never played an instrument before, you'll 
 be playing the uke after the very first 
 lesson with a big smile on your face. In this 
 course, students learn a short history of the 
 ukulele, the names of the parts, tuning, and 
 four or five chords which can be used to play 
 thousands of songs. Students should bring 
 their own ukuleles, tuned G-C-E-A and a three-ring 
 binder with plastic sheet protectors to 
 keep music and instructional notes organized.\n\n
 Price: $125 per semester (10 weeks)\n
 Sponsor's Homepage: http://cms.msu.edu\n
 Contact phone: (517) -355 -7661\n
 Contact email: commusic@msu.edu\n
 for more info visit the web at:\n 
 http://cms.msu.edu/el/adults/GroupUkulele.php?el_adults_uke\n
LOCATION:MSU Community Music School
END:VEVENT
END:VCALENDAR
