BEGIN:VCALENDAR
VERSION:2.0
METHOD:PUBLISH
PRODID:-//Virginia Tech//VT Calendar//EN
BEGIN:VEVENT
DTSTAMP:20151215T050000Z
UID:1440530213014@events.msu.edu
CATEGORIES:Academic
DTSTART;VALUE=DATE:20151215
DTEND;VALUE=DATE:20151216
SUMMARY:Final Exams
DESCRIPTION:
  Price: free\n
 Sponsor: Administration\n
 Sponsor's Homepage: http://events.msu.edu/registrar/\n
END:VEVENT
END:VCALENDAR
