BEGIN:VCALENDAR
VERSION:2.0
METHOD:PUBLISH
PRODID:-//Virginia Tech//VT Calendar//EN
BEGIN:VEVENT
DTSTAMP:20160506T040000Z
UID:1440531657232@events.msu.edu
CATEGORIES:Academic
DTSTART;VALUE=DATE:20160506
DTEND;VALUE=DATE:20160507
SUMMARY:Commencement 
DESCRIPTION:
  Price: free\n
 Sponsor: Administration\n
 Sponsor's Homepage: http://events.msu.edu/registrar/\n
END:VEVENT
END:VCALENDAR
