BEGIN:VCALENDAR
VERSION:2.0
METHOD:PUBLISH
PRODID:-//Virginia Tech//VT Calendar//EN
BEGIN:VEVENT
DTSTAMP:20150909T170000Z
UID:1441131746203@events.msu.edu
CATEGORIES:Training
DTSTART:20150909T170000Z
DTEND:20150909T183000Z
SUMMARY:Getting Started with Humanities Data: Beginner Tools
DESCRIPTION:
 Get started in the Digital Humanities through 
 introductions to and hands-on experimentation 
 with mapping, text analysis, and visualization 
 tools. \n\n
 Price: free\n
 Sponsor: Administration\n
 Sponsor's Homepage: http://www.lib.msu.edu\n
 Contact name: Thomas Padilla\n
 Contact email: tpadilla@msu.edu\n
LOCATION:REAL Classroom, 3 West, Main Library
END:VEVENT
END:VCALENDAR
