BEGIN:VCALENDAR
VERSION:2.0
METHOD:PUBLISH
PRODID:-//Virginia Tech//VT Calendar//EN
BEGIN:VEVENT
DTSTAMP:20150911T140000Z
UID:1441131807529@events.msu.edu
CATEGORIES:Training
DTSTART:20150911T140000Z
DTEND:20150911T160000Z
SUMMARY:Zotero:  Citation Management 2.0
DESCRIPTION:
 A comprehensive introduction to Zotero, a free 
 citation management tool.\n
 Learn how to:\n
 -Import 
 and manage references from library e-resources 
 and the web\n
 -Share references with others\n
 -Format 
 references and use with Word\n
 This class will teach the Zotero Firefox browser 
 based tool.  Attendees should bring their 
 own laptop with the latest version of Firefox 
 installed.  For more information please visit 
 http://libguides.lib.msu.edu/zotero.\n
 *Previous 
 experience searching article databases 
 available from the MSU Libraries is highly recommended.\n\n
 Price: free\n
 Sponsor: Administration\n
 Sponsor's Homepage: http://www.lib.msu.edu\n
 Contact name: Holly Flynn\n
 Contact email: flynnhol@msu.edu\n
LOCATION:Reference Instruction Room (W101D)
END:VEVENT
END:VCALENDAR
