BEGIN:VCALENDAR
VERSION:2.0
METHOD:PUBLISH
PRODID:-//Virginia Tech//VT Calendar//EN
BEGIN:VEVENT
DTSTAMP:20150923T160000Z
UID:1441293741229@events.msu.edu
CATEGORIES:Conferences / Seminars / Lectures
DTSTART:20150923T160000Z
DTEND:20150923T170000Z
SUMMARY:Nara Parameswaran, Associate Professor
DESCRIPTION:
 Michigan State University, Physiology\n
 \n
 Topic: 
 TBD\n\n
 Price: Free\n
 Sponsor: Dept of Pharmacology & Toxicology\n
 Sponsor's Homepage: http://phmtox.msu.edu/\n
 Contact name: Student Office\n
 Contact phone: (517) 884-0409\n
 Contact email: phm@msu.edu\n
 for more info visit the web at:\n 
 http://phmtox.msu.edu/education/Seminars-PhmTox.htm\n
LOCATION:B448 Life Sciences  (behind Bott Nursing Building)
END:VEVENT
END:VCALENDAR
