BEGIN:VCALENDAR
VERSION:2.0
METHOD:PUBLISH
PRODID:-//Virginia Tech//VT Calendar//EN
BEGIN:VEVENT
DTSTAMP:20151001T233000Z
UID:1441740897345@events.msu.edu
CATEGORIES:Performing Arts (Dance, Music, Theatre,  ...)
DTSTART:20151001T233000Z
DTEND:20151002T035900Z
SUMMARY:Wind Symphony
DESCRIPTION:
 Kevin L. Sedatole, conductor\n
 David Maslanka, 
 guest composer \n
 Justin Emerich, trumpet, guest 
 artist\n\n
 Price: $10 for adults, $8 for seniors, free for students\n
 Sponsor: College of Music\n
 Sponsor's Homepage: http://www.music.msu.edu\n
 Contact name: MSU College of Music Box Office\n
 Contact phone: (517)353-5340\n
 Contact email: musicpr@msu.edu\n
 for more info visit the web at:\n 
 http://music.msu.edu/event-listing/wind-symphony-4\n
LOCATION:Cobb Great Hall, Wharton Center
END:VEVENT
END:VCALENDAR
