BEGIN:VCALENDAR
VERSION:2.0
METHOD:PUBLISH
PRODID:-//Virginia Tech//VT Calendar//EN
BEGIN:VEVENT
DTSTAMP:20151122T200000Z
UID:1441902654207@events.msu.edu
CATEGORIES:Performing Arts (Dance, Music, Theatre,  ...)
DTSTART:20151122T200000Z
DTEND:20151123T045900Z
SUMMARY:MSU Opera Theatre: A Room With a View
DESCRIPTION:
 Music by Robert Nelson, libretto by Buck Ross\n
 \n
 Marcello 
 Cormio, conductor\n
 Melanie Helton, 
 director\n\n
 Price: $20 for adults, $18 for seniors, $5 for students\n
 Sponsor: College of Music\n
 Sponsor's Homepage: http://www.music.msu.edu\n
 Contact name: MSU College of Music Box Office\n
 Contact phone: (517)353-5340\n
 Contact email: musicpr@msu.edu\n
 for more info visit the web at:\n 
 http://music.msu.edu/event-listing/a-room-with-a-view\n
LOCATION:Fairchild Theatre, MSU Auditorium
END:VEVENT
END:VCALENDAR
