BEGIN:VCALENDAR
VERSION:2.0
METHOD:PUBLISH
PRODID:-//Virginia Tech//VT Calendar//EN
BEGIN:VEVENT
DTSTAMP:20160331T003000Z
UID:1441912678406@events.msu.edu
CATEGORIES:Performing Arts (Dance, Music, Theatre,  ...)
DTSTART:20160331T003000Z
DTEND:20160331T045900Z
SUMMARY:Yuri Gandelsman, viola, and Johnny Gandelsman, violin
DESCRIPTION:
 ARTIST-FACULTY SERIES sponsored by WKAR\n
 \n
 With 
 Ad Libitum Chamber Orchestra\n
 \n
 Generously 
 sponsored by Dr. James M. Miller and Dr. Rebecca 
 H. Lehto\n\n
 Price: $10 for adults, $8 for seniors, free for students\n
 Sponsor: College of Music\n
 Sponsor's Homepage: http://www.music.msu.edu\n
 Contact name: MSU College of Music Box Office\n
 Contact phone: (517)353-5340\n
 Contact email: musicpr@msu.edu\n
 for more info visit the web at:\n 
 http://music.msu.edu/event-listing/yuri-gandelsman-viola-and-johnny-gandelsman-violin\n
LOCATION:Fairchild Theatre, MSU Auditorium
END:VEVENT
END:VCALENDAR
