BEGIN:VCALENDAR
VERSION:2.0
METHOD:PUBLISH
PRODID:-//Virginia Tech//VT Calendar//EN
BEGIN:VEVENT
DTSTAMP:20160423T000000Z
UID:1441916196206@events.msu.edu
CATEGORIES:Performing Arts (Dance, Music, Theatre,  ...)
DTSTART:20160423T000000Z
DTEND:20160423T035900Z
SUMMARY:International Chamber Soloists with Violinist Dmitri Berlinsky
DESCRIPTION:
 Hailing from all over the world, this group of 
 soloists, united in its purpose and love of 
 classical music, and under the energetic leadership 
 of violinist Dmitri Berlinsky, performs 
 music for orchestras with the flair and freedom 
 of soloists. \n
 \n
 Generously sponsored by 
 Jim and Geri Potchen\n\n
 Price: $20 for adults, $18 for seniors, $10 for students\n
 Sponsor: College of Music\n
 Sponsor's Homepage: http://www.music.msu.edu\n
 Contact name: MSU College of Music Box Office\n
 Contact phone: (517)353-5340\n
 Contact email: musicpr@msu.edu\n
 for more info visit the web at:\n 
 http://music.msu.edu/event-listing/international-chamber-soloists-with-violinist-dmitri-berlinsky\n
LOCATION:Fairchild Theatre, MSU Auditorium
END:VEVENT
END:VCALENDAR
