BEGIN:VCALENDAR
VERSION:2.0
METHOD:PUBLISH
PRODID:-//Virginia Tech//VT Calendar//EN
BEGIN:VEVENT
DTSTAMP:20151109T050000Z
UID:1442242482294@events.msu.edu
CATEGORIES:Athletics
DTSTART;VALUE=DATE:20151109
DTEND;VALUE=DATE:20151110
SUMMARY:MSU Men's Basketball vs. Ferris
DESCRIPTION:
  Sponsor: Athletics\n
 Sponsor's Homepage: http://msuspartans.com\n
LOCATION:Breslin Center
END:VEVENT
END:VCALENDAR
