BEGIN:VCALENDAR
VERSION:2.0
METHOD:PUBLISH
PRODID:-//Virginia Tech//VT Calendar//EN
BEGIN:VEVENT
DTSTAMP:20150920T160000Z
UID:1442247206748@events.msu.edu
CATEGORIES:Athletics
DTSTART:20150920T160000Z
DTEND:20150921T035900Z
SUMMARY:MSU Women's Field Hockey vs. UC Davis
DESCRIPTION:
  Sponsor: Athletics\n
 Sponsor's Homepage: http://msuspartans.com\n
LOCATION:East Lansing, Mich.
END:VEVENT
END:VCALENDAR
