BEGIN:VCALENDAR
VERSION:2.0
METHOD:PUBLISH
PRODID:-//Virginia Tech//VT Calendar//EN
BEGIN:VEVENT
DTSTAMP:20181020T040000Z
UID:1442256922489@events.msu.edu
CATEGORIES:Special Events
DTSTART;VALUE=DATE:20181020
DTEND;VALUE=DATE:20181021
SUMMARY:MSU Museum Closed
DESCRIPTION:
 Special note: MSU Museum closed on home football 
 game days.\n
 \n
 Please come back and visit another 
 time! \n\n
 Price: free\n
 Sponsor: Administration\n
 Sponsor's Homepage: http://museum.msu.edu\n
 Contact phone: 517-355-2370\n
 Contact email: museum@msu.edu\n
 for more info visit the web at:\n 
 http://museum.msu.edu\n
LOCATION:MSU Museum
END:VEVENT
END:VCALENDAR
