BEGIN:VCALENDAR
VERSION:2.0
METHOD:PUBLISH
PRODID:-//Virginia Tech//VT Calendar//EN
BEGIN:VEVENT
DTSTAMP:20151016T160000Z
UID:1442952165958@events.msu.edu
CATEGORIES:International Events (Study Abroad, ...)
DTSTART:20151016T160000Z
DTEND:20151016T170000Z
SUMMARY:International Medical Travel Spotlight
DESCRIPTION:
 The International Osteopathic Medicine Organization 
 will host students who participated in 
 international medical work through MSUCOM in 
 the past year. Interested first year students 
 can ask questions, and learn from students as 
 well as faculty engaged in global health.\n
 \n\n
 Price:  Free\n
 Sponsor: IOMO\n
 Contact name: Sean Morris\n
 Contact phone: (734)358-6625\n
 Contact email: morri324@msu.edu\n
LOCATION:EL E105, MUC UC3 208, DMC TBA
END:VEVENT
END:VCALENDAR
