BEGIN:VCALENDAR
VERSION:2.0
METHOD:PUBLISH
PRODID:-//Virginia Tech//VT Calendar//EN
BEGIN:VEVENT
DTSTAMP:20150924T153000Z
UID:1443101020727@events.msu.edu
CATEGORIES:Public Programs
DTSTART:20150924T153000Z
DTEND:20150924T170000Z
SUMMARY:Learn at Lunch Holidays and Religious Observances 
DESCRIPTION:
 LEARN AT LUNCH SERIES\n
 11:30am.-1:00pm\n
 MSU Student 
 Union,  Mosaic Multicultural Unity Center\n
 Join 
 the conversation,ask questions, LEARN!\n
 Everyone's 
 welcome. Bring your lunch and\n
 join 
 the conversation! \n
 \n
 Thursday, September 
 24: Holidays and Religious Observances\n
 PRESENTERS: 
 AMY DEROGATIS, Associate Professor 
 of Religion\n
 and American Culture; MOHAMMAD KHALIL, 
 Associate Professor\n
 of Religious Studies; 
 and JON KEUNE, Assistant Professor\n
 of South 
 Asian Religions\n\n
 Price: free\n
 Sponsor: Office for Inclusion & Intercultural Initiatives\n
 Sponsor's Homepage: http://www.inclusion.msu.edu/index.html\n
 Contact name: Venice Smith\n
 Contact phone: 517-353-4563\n
 Contact email: smithde4@msu.edu\n
 for more info visit the web at:\n 
 http://www.inclusion.msu.edu/index.html\n
LOCATION:MSU Student Union,  Mosaic Multicultural Unity Center
END:VEVENT
END:VCALENDAR
