BEGIN:VCALENDAR
VERSION:2.0
METHOD:PUBLISH
PRODID:-//Virginia Tech//VT Calendar//EN
BEGIN:VEVENT
DTSTAMP:20151016T160000Z
UID:1443125763500@events.msu.edu
CATEGORIES:Conferences / Seminars / Lectures
DTSTART:20151016T160000Z
DTEND:20151016T170000Z
SUMMARY:Michele Morari. PhD. University of Ferrara, Department of Medical Sciences Section of Pharmacology
DESCRIPTION:
 "The NOP Receptor as a Novel Target in the Therapy 
 of Parkinson's Disease"\n\n
 Price: Free\n
 Sponsor: Dept of Pharmacology & Toxicology\n
 Sponsor's Homepage: http://phmtox.msu.edu/\n
 Contact name: Student Office\n
 Contact phone: (517) 884-0409\n
 Contact email: phm@msu.edu\n
 for more info visit the web at:\n 
 http://phmtox.msu.edu/education/Seminars-PhmTox.htm\n
LOCATION:B448 Life Sciences  (behind Bott Nursing Building)
END:VEVENT
END:VCALENDAR
