BEGIN:VCALENDAR
VERSION:2.0
METHOD:PUBLISH
PRODID:-//Virginia Tech//VT Calendar//EN
BEGIN:VEVENT
DTSTAMP:20151021T230000Z
UID:1443728507943@events.msu.edu
CATEGORIES:Public Programs
DTSTART:20151021T230000Z
DTEND:20151022T035900Z
SUMMARY:Cindy Hunter Morgan Poetry Reading
DESCRIPTION:
 The opening night of our Fall Writing Series features 
 poet Cindy Hunter Morgan reading selections 
 from her books "The Sultan, The Skater, 
 The Bicycle Maker," "Apple Season," and from 
 her manuscript about Great Lakes shipwrecks. 
 Open to the public.\n\n
 Price: free\n
 Sponsor: RCAH Center for Poetry at MSU\n
 Sponsor's Homepage: http://poetry.rcah.msu.edu/\n
 Contact name: Laurie Hollinger\n
 Contact phone: (517) 884-1932\n
 Contact email: cpoetry@msu.edu\n
 for more info visit the web at:\n 
 http://poetry.rcah.msu.edu/fall-writing-series.html\n
LOCATION:RCAH Theatre, Snyder Hall
END:VEVENT
END:VCALENDAR
