BEGIN:VCALENDAR
VERSION:2.0
METHOD:PUBLISH
PRODID:-//Virginia Tech//VT Calendar//EN
BEGIN:VEVENT
DTSTAMP:20151112T000000Z
UID:1444666109938@events.msu.edu
CATEGORIES:Public Programs
DTSTART:20151112T000000Z
DTEND:20151112T045900Z
SUMMARY:Fall Writing Series: Marvin and Nathan Bell
DESCRIPTION:
 Afternoon Talk: The Lyrics of Song and poetry: 
 How music and words hold hands in songs and 
 poems\n
 \n
 Reading: 7 pm, RCAH Theater \n\n
 Price: free\n
 Sponsor: Administration\n
 Sponsor's Homepage: http://poetry.rcah.msu.edu/\n
 Contact name: Laurie Hollinger\n
 Contact phone: (517) 884-1932\n
 Contact email: cpoetrymsu@gmail.com\n
 for more info visit the web at:\n 
 http://poetry.rcah.msu.edu/fall-writing-series.html\n
LOCATION:RCAH Theater, Snyder C20
END:VEVENT
END:VCALENDAR
