BEGIN:VCALENDAR
VERSION:2.0
METHOD:PUBLISH
PRODID:-//Virginia Tech//VT Calendar//EN
BEGIN:VEVENT
DTSTAMP:20151105T220000Z
UID:1445974470335@events.msu.edu
CATEGORIES:Special Events
DTSTART:20151105T220000Z
DTEND:20151106T000000Z
SUMMARY: A Conversation with Barbara Ehrenreich
DESCRIPTION:
 Join us for a conversation with Barbara Ehrenreich, 
 award-winning author of Nickel and Dimed, 
 Bait and Switch, Bright-Sided and Living with 
 a Wild God; and Winner of the National Magazine 
 Award, Humanist of the Year Award, and 
 the 'Freedom from Want' Medal of the Roosevelt 
 Institute.\n
 \n
 The event will also feature 
 a panel discussion with MSU faculty members Elizabeth 
 Bogdan-Lovis, Center for Ethics and 
 Humanities in the Life Sciences; Michelle Kaminski, 
 School of Human Resources and Industrial 
 Relations; and Amy DeRogatis, Department of 
 Religious Studies.\n
 \n
 Co-sponsored by the Department 
 of Political Science, James Madison 
 College, Social Science Scholars Program, Center 
 for Gender in Global Context, Symposium 
 on Science, Reason, and Modern Democracy, Lyman 
 Briggs College, Office of the Vice President 
 for Research and Graduate Studies, Human Development 
 and Family Studies, Social Work, College 
 of Arts and Letters, History, Sociology, 
 Criminal Justice, Residential College in the 
 Arts and Humanities, English, Women's Resource 
 Center, and Center for Ethics and Humanities 
 in the Life Sciences.\n\n
 Price: free\n
 Sponsor: public\n
 Contact name: Galena Ostipow\n
 Contact email: gencen@msu.edu\n
 for more info visit the web at:\n 
 https://www.facebook.com/events/384886345038632/\n
LOCATION:Snyder-Phillips Auditorium
END:VEVENT
END:VCALENDAR
