BEGIN:VCALENDAR
VERSION:2.0
METHOD:PUBLISH
PRODID:-//Virginia Tech//VT Calendar//EN
BEGIN:VEVENT
DTSTAMP:20160422T170000Z
UID:1452184567296@events.msu.edu
CATEGORIES:Special Events
DTSTART:20160422T170000Z
DTEND:20160422T200000Z
SUMMARY:Resource Center for Persons with Disabilities Annual Awards and Appreciation Reception
DESCRIPTION:
 The Resource Center for Persons with Disabilities 
 works toward full inclusion of people with 
 disabilities at Michigan State University. 
  This event honors the outstanding achievements 
 of scholarship recipients, exceptional faculty 
 and staff, and generous alumni and donors 
 supporting the mission of the RCPD. All are 
 welcome in celebrating the achievements of Spartans 
 with disabilities.  Please RSVP using 
 the link below.\n\n
 Price: free\n
 Sponsor: Resource Center for Persons with Disabilities\n
 Sponsor's Homepage: http://rcpd.msu.edu\n
 Contact name: Beverly Stehlik\n
 Contact phone: 517-884-1903\n
 Contact email: bhs7@msu.edu\n
 for more info visit the web at:\n 
 https://www.rcpd.msu.edu/programs/awards-appreciation-reception-rsvp\n
LOCATION:Union Ballroom
END:VEVENT
END:VCALENDAR
