BEGIN:VCALENDAR
VERSION:2.0
METHOD:PUBLISH
PRODID:-//Virginia Tech//VT Calendar//EN
BEGIN:VEVENT
DTSTAMP:20160116T050000Z
UID:1452618692028-0005@events.msu.edu
CATEGORIES:Special Events
DTSTART;VALUE=DATE:20160116
DTEND;VALUE=DATE:20160117
SUMMARY:Tickets on Sale: Second City
DESCRIPTION:
 Second City is coming to MSU on January 30, 2016! 
 Tickets for Hooking Up with the Second City 
 go on sale at the Wharton Center TODAY!\n
 Buy 
 your tickets online at www.whartoncenter.com, 
 over the phone at 517-353-1982, or in person 
 at the Wharton Center Ticket Office. Get 
 them before they are gone!\n
 Limit: Only 2 tickets 
 per MSU student ID.\n\n
 Price: Students: $10, Public: $20\n
 Sponsor: UAB\n
 Sponsor's Homepage: http://www.uabevents.com\n
 Contact name: University Activities Board\n
 Contact phone: 355-3354\n
 Contact email: uab@rhs.msu.edu\n
 for more info visit the web at:\n 
 http://uabevents.com\n
LOCATION:Wharton Center
END:VEVENT
END:VCALENDAR
