BEGIN:VCALENDAR
VERSION:2.0
METHOD:PUBLISH
PRODID:-//Virginia Tech//VT Calendar//EN
BEGIN:VEVENT
DTSTAMP:20160120T200000Z
UID:1452885774441@events.msu.edu
CATEGORIES:Training
DTSTART:20160120T200000Z
DTEND:20160120T220000Z
SUMMARY:Github & Git for Humanists
DESCRIPTION:
 Curious about Github and Git? Want to learn how 
 to use them to manage data, code, digital projects, 
 and collaborative document editing? 
 During this workshop we will provide a low barrier 
 introduction to Github and Git that will 
 show you their potential value and offer some 
 hands on experimentation.\n\n
 Price: free\n
 Sponsor: Administration\n
 Sponsor's Homepage: http://www.lib.msu.edu\n
 Contact name: Holly Flynn\n
 Contact phone: 517-884-0901\n
 Contact email: flynnhol@msu.edu\n
LOCATION:MSU Main Library, REAL Classroom (3W)
END:VEVENT
END:VCALENDAR
