BEGIN:VCALENDAR
VERSION:2.0
METHOD:PUBLISH
PRODID:-//Virginia Tech//VT Calendar//EN
BEGIN:VEVENT
DTSTAMP:20160129T000000Z
UID:1452886352257@events.msu.edu
CATEGORIES:Conferences / Seminars / Lectures
DTSTART:20160129T000000Z
DTEND:20160129T045900Z
SUMMARY:Brian Gilmore
DESCRIPTION:
 Brian Gilmore is a poet, writer, public interest 
 attorney, and columnist with the Progressive 
 Media Project. He is a contributing writer 
 for Ebony and Jet Magazines online, and the 
 author of two collections of poetry: elvis presley 
 is alive and well and living in harlem, 
 and Jungle Nights and Soda Fountain Rags: Poem 
 for Duke Ellington. His poems and writings 
 are widely published and have appeared in The 
 Progressive, The Washington Post, The Baltimore 
 Sun, The Sugar House Review, Delaware Poetry 
 Review, Jubilat and many other publications. 
 Currently, he teaches law at the Michigan 
 State University College of Law. He divides 
 his time between Michigan and his beloved birthplace, 
 Washington D.C.\n
 (Description courtesy 
 of Cherry Castle Publishing)\n
 \n
 Cosponsored 
 by: English Department, RCAH Center for Poetry\n
 \n\n
 Price: free\n
 Sponsor: Administration\n
 Sponsor's Homepage: http://www.lib.msu.edu\n
 Contact name: Holly Flynn\n
 Contact phone: 517-884-0901\n
 Contact email: flynnhol@msu.edu\n
LOCATION:MSU Main Library, Green Room (4W)
END:VEVENT
END:VCALENDAR
