BEGIN:VCALENDAR
VERSION:2.0
METHOD:PUBLISH
PRODID:-//Virginia Tech//VT Calendar//EN
BEGIN:VEVENT
DTSTAMP:20160427T230000Z
UID:1453316719471@events.msu.edu
CATEGORIES:Performing Arts (Dance, Music, Theatre,  ...)
DTSTART:20160427T230000Z
DTEND:20160428T035900Z
SUMMARY:Spring Poetry Festival: Robin Coste Lewis
DESCRIPTION:
  Price: free\n
 Sponsor: Administration\n
 Sponsor's Homepage: http://poetry.rcah.msu.edu/\n
 Contact name: Laurie Hollinger\n
 Contact phone: (517)-884-1932\n
 Contact email: cpoetry@msu.edu\n
LOCATION:RCAH Theater, Snyder Hall
END:VEVENT
END:VCALENDAR
