BEGIN:VCALENDAR
VERSION:2.0
METHOD:PUBLISH
PRODID:-//Virginia Tech//VT Calendar//EN
BEGIN:VEVENT
DTSTAMP:20160408T174000Z
UID:1453388203375@events.msu.edu
CATEGORIES:Conferences / Seminars / Lectures
DTSTART:20160408T174000Z
DTEND:20160409T045900Z
SUMMARY:Analtyical Seminar
DESCRIPTION:
 Professor Gerald Frankel\n
 Ohio State University\n\n
 Price: free\n
 Sponsor: Chemistry\n
 Sponsor's Homepage: http://www.chemistry.msu.edu/\n
 Contact name: Brenda Franklin\n
 Contact phone: (517) 355-9715\n
 Contact email: franklin@chemistry.msu.edu\n
LOCATION:Chemistry
END:VEVENT
END:VCALENDAR
