BEGIN:VCALENDAR
VERSION:2.0
METHOD:PUBLISH
PRODID:-//Virginia Tech//VT Calendar//EN
BEGIN:VEVENT
DTSTAMP:20160320T030000Z
UID:1453752684243@events.msu.edu
CATEGORIES:Public Programs
DTSTART:20160320T030000Z
DTEND:20160320T045900Z
SUMMARY:Pink Floyd: The Planetarium Show
DESCRIPTION:
 Come enjoy the album The Dark Side of The Moon 
 set to stunning visuals in this highly anticipated 
 Planetarium Show.\n\n
 Price: $4 per person, $2 for members\n
 Sponsor: public\n
 Contact name: Abrams Planetarium\n
 Contact phone: 517-355-4676\n
 Contact email: www.abramsplanetarium.org\n
LOCATION:Abrams Planetarium 
END:VEVENT
END:VCALENDAR
